BEGIN:VCALENDAR
VERSION:2.0
PRODID:-//Edzard F. Keibel - ECPv6.14.2//NONSGML v1.0//EN
CALSCALE:GREGORIAN
METHOD:PUBLISH
X-WR-CALNAME:Edzard F. Keibel
X-ORIGINAL-URL:https://edzardkeibel.de
X-WR-CALDESC:Veranstaltungen für Edzard F. Keibel
REFRESH-INTERVAL;VALUE=DURATION:PT1H
X-Robots-Tag:noindex
X-PUBLISHED-TTL:PT1H
BEGIN:VTIMEZONE
TZID:Europe/Berlin
BEGIN:DAYLIGHT
TZOFFSETFROM:+0100
TZOFFSETTO:+0200
TZNAME:CEST
DTSTART:20190331T010000
END:DAYLIGHT
BEGIN:STANDARD
TZOFFSETFROM:+0200
TZOFFSETTO:+0100
TZNAME:CET
DTSTART:20191027T010000
END:STANDARD
END:VTIMEZONE
BEGIN:VEVENT
DTSTART;TZID=Europe/Berlin:20190506T190000
DTEND;TZID=Europe/Berlin:20190506T213000
DTSTAMP:20260421T100305
CREATED:20190325T122505Z
LAST-MODIFIED:20190325T133957Z
UID:10630-1557169200-1557178200@edzardkeibel.de
SUMMARY:Systemaufstellungsgruppe
DESCRIPTION:Nur für TeilnehmerInnen der laufenden Gruppe! \nWenn Sie auch Interesse an einer Aufstellungsarbeit haben\,  melden Sie sich bitte zu einer Folgeveranstaltung an. \n 
URL:https://edzardkeibel.de/veranstaltung/systemaufstellungen-gruppe/
LOCATION:Kloster Nütschau\, Schloßstrasse 16\, Travenbrück\, SH\, 23843\, Germany
CATEGORIES:Familienaufstellung,Organisationsaufstellung,Systemaufstellung,Veranstaltungen
ATTACH;FMTTYPE=image/png:https://edzardkeibel.de/wp-content/uploads/2019/02/ek-totop.png
ORGANIZER;CN="Edzard F. Keibel":MAILTO:info@edzardkeibel.de
END:VEVENT
BEGIN:VEVENT
DTSTART;TZID=Europe/Berlin:20190327T190000
DTEND;TZID=Europe/Berlin:20190327T213000
DTSTAMP:20260421T100305
CREATED:20190312T154327Z
LAST-MODIFIED:20190325T132959Z
UID:10477-1553713200-1553722200@edzardkeibel.de
SUMMARY:Systemaufstellungsgruppe
DESCRIPTION:nur für angemeldete Teilnehmer und Teilnehmerinnen!
URL:https://edzardkeibel.de/veranstaltung/systemaufstellung-gruppe/
LOCATION:Kloster Nütschau\, Schloßstrasse 16\, Travenbrück\, SH\, 23843\, Germany
CATEGORIES:Familienaufstellung,Organisationsaufstellung,Systemaufstellung,Veranstaltungen
ATTACH;FMTTYPE=image/png:https://edzardkeibel.de/wp-content/uploads/2019/02/ek-totop@2x.png
ORGANIZER;CN="Edzard F. Keibel":MAILTO:info@edzardkeibel.de
END:VEVENT
BEGIN:VEVENT
DTSTART;TZID=Europe/Berlin:20190325T190000
DTEND;TZID=Europe/Berlin:20190325T210000
DTSTAMP:20260421T100305
CREATED:20190312T154156Z
LAST-MODIFIED:20190318T200904Z
UID:10475-1553540400-1553547600@edzardkeibel.de
SUMMARY:Systemaufstellung
DESCRIPTION:geschlossene Veranstaltung!
URL:https://edzardkeibel.de/veranstaltung/systemaufstellung/
LOCATION:SH
CATEGORIES:Familienaufstellung,Veranstaltungen
ATTACH;FMTTYPE=image/png:https://edzardkeibel.de/wp-content/uploads/2019/02/ek-apple-touch-icon-144x144.png
END:VEVENT
BEGIN:VEVENT
DTSTART;TZID=Europe/Berlin:20190322T190000
DTEND;TZID=Europe/Berlin:20190322T203000
DTSTAMP:20260421T100305
CREATED:20190311T164401Z
LAST-MODIFIED:20190311T204648Z
UID:10374-1553281200-1553286600@edzardkeibel.de
SUMMARY:System- und Familienaufstellung
DESCRIPTION:Kennen Sie Familiendynamiken wie z.B. Beziehungsabbrüche\, die Ihnen Rätsel aufgeben?
URL:https://edzardkeibel.de/veranstaltung/system-und-familienaufstellung/
LOCATION:Kloster Nütschau\, Schloßstrasse 16\, Travenbrück\, SH\, 23843\, Germany
CATEGORIES:Familienaufstellung,Organisationsaufstellung,Systemaufstellung,Veranstaltungen
ATTACH;FMTTYPE=image/png:https://edzardkeibel.de/wp-content/uploads/2019/02/ek-totop@2x.png
ORGANIZER;CN="Edzard F. Keibel":MAILTO:info@edzardkeibel.de
END:VEVENT
END:VCALENDAR